BEGIN:VCALENDAR
VERSION:2.0
METHOD:PUBLISH
BEGIN:VEVENT
UID:WILD_APRICOT_EVENT_2817087_SESSION_1
DTSTART:20180505T000000Z
DTEND:20180506T060000Z
SUMMARY:SPAA members at Wings Over Illawarra
LOCATION:Illawarra Regional airport
DESCRIPTION:https://seaplanes.org.au/event-2817087\n\nContact Donna Handley on 0409 172 776 to be a member of 'Team SPAA' at WOI.\n  Register Now!   We need YOU !!\n  Join with SPAA Members at the largest annual airshow in Australia. See the best our country has to offer\, including historic aircraft\, fast fighter jets and huge heavy transports.\n  \n\n  The SPAA tent is 'the place to be' at any major event\, and WOI is no exception!\n  Get to know other Seaplane Pilots\, and socialise with everyone at our Saturday evening Illawarra Seaplane Pilots' dinner.\n
DTSTAMP:20190227T132817Z
END:VEVENT
END:VCALENDAR
