BEGIN:VCALENDAR
VERSION:2.0
METHOD:PUBLISH
BEGIN:VEVENT
UID:WILD_APRICOT_EVENT_2817091_SESSION_1
DTSTART:20180309T230000Z
DTEND:20180312T050000Z
SUMMARY:Lake Boga Splash-in
LOCATION:Lake Boga near Swan Hill VIC
DESCRIPTION:https://seaplanes.org.au/event-2817091\n\n\n\n  Join with SPAA members and guests at Lake Boga over the Labour Day Long Weekend.\n  Visit the Catalina Museum\, and join with the friendly Lake Boga community for a celebration at this historic flying boat maintenance base.\n  Contact Donna Handley 0409 172 776 for more information about this great event.\n     \n   \n\n  \n\n
DTSTAMP:20190227T132828Z
END:VEVENT
END:VCALENDAR
