BEGIN:VCALENDAR
VERSION:2.0
METHOD:PUBLISH
BEGIN:VEVENT
UID:WILD_APRICOT_EVENT_2817097_SESSION_1
DTSTART:20180718T000000Z
DTEND:20180721T060000Z
SUMMARY:SPAA members at LakeFest Fly-In (USA)
LOCATION:Madden's on Gull Lake\, Brainerd\, Minnesota
DESCRIPTION:https://seaplanes.org.au/event-2817097\n\nAre you interested in attending this vital Lake Amphibian Club Safety Seminar prior to Oshkosh 2018?  Express your interest here\, and join with SPAA members at this important event.\n  \n\n
DTSTAMP:20190227T132755Z
END:VEVENT
END:VCALENDAR
