BEGIN:VCALENDAR
VERSION:2.0
METHOD:PUBLISH
BEGIN:VEVENT
UID:WILD_APRICOT_EVENT_2817099_SESSION_1
DTSTART:20180723T000000Z
DTEND:20180729T060000Z
SUMMARY:SPAA members at EAA AirVenture Oshkosh 2018 (USA)
LOCATION:Oshkosh Winnebago County\, Wisconsin. USA
DESCRIPTION:https://seaplanes.org.au/event-2817099\n\nJoin with SPAA members at the greatest airshow on planet earth!\n  Register your interest here.\n  \n\n    \n
DTSTAMP:20190227T132744Z
END:VEVENT
END:VCALENDAR
