BEGIN:VCALENDAR
VERSION:2.0
METHOD:PUBLISH
BEGIN:VEVENT
UID:WILD_APRICOT_EVENT_2819201_SESSION_1
DTSTART:20180519T000000Z
DTEND:20180519T060000Z
SUMMARY:The Annual Rylstone 'Celebration of Aviation'
LOCATION:Rylstone Air Park
DESCRIPTION:https://seaplanes.org.au/event-2819201\n\nJoin with SPAA members and others at this free celebration at Rylstone Air Park. Why not stay overnight?\n  Enjoy the friendly country atmosphere in this beautiful region. Click on the RSVP button to let Rob Loneragan know that you are interested in attending!\n  RSVP HERE\n  \n\n  Plus much More....\n  \n\n
DTSTAMP:20190227T132806Z
END:VEVENT
END:VCALENDAR
