BEGIN:VCALENDAR
VERSION:2.0
METHOD:PUBLISH
BEGIN:VEVENT
UID:WILD_APRICOT_EVENT_3094531_SESSION_1
DTSTART:20181201T063000Z
DTEND:20181201T113000Z
SUMMARY:SPAA  🎄  CHRISTMAS  🎄 PARTY
LOCATION:Grafton Aero Club\, South Grafton Airfield
DESCRIPTION:https://seaplanes.org.au/event-3094531\n\nJoin with SPAA members and guests at the annual SPAA Christmas Party! Cost $25 per person for food. (Menu below). Drinks for sale at the Aero Club bar on the night.\n  \n\n  MENU\n  Mains\n\nBaguette crusty bread\n Baked mustard-maple glazed ham leg on the bone\n Mediterranean chicken topped with lemon & wine sauce\n Tropical pork kebabs\n Quiches\n \n Chat potatoes served with butter & chives\n Variety of salads (Garden\, Rice\, Bean\, pasta etc)\n \n Desserts\n Mixed berry cheesecake\n Home made pavlova with cream cheese & passionfruit sauce\n Caramel banana slice\n Fresh apple Bundt cake with cream cheese frosting & walnuts\n Chocolate dessert cake topped & filled with cream\, strawberries & raspberries\n Icecream\n \n Tea & Coffee\n \n The bar will be operating with a variety of beers both full strength & light & variety of red & white wines for sale with pre dinner nibbles. \n \n Cost per person $25.00 plus drinks.
DTSTAMP:20190227T132734Z
END:VEVENT
END:VCALENDAR
