BEGIN:VCALENDAR
VERSION:2.0
METHOD:PUBLISH
BEGIN:VEVENT
UID:WILD_APRICOT_EVENT_3240607_SESSION_1
DTSTART:20190225T230000Z
DTEND:20190303T050000Z
SUMMARY:SPAA Members at the Australian International Airshow
LOCATION:Avalon Airport
DESCRIPTION:https://seaplanes.org.au/event-3240607\n\nJoin with SPAA Members at the largest Airshow in the Australasian Region.\n  Register your interest HERE\n  \n\n
DTSTAMP:20190227T132503Z
END:VEVENT
END:VCALENDAR
