BEGIN:VCALENDAR
VERSION:2.0
METHOD:PUBLISH
BEGIN:VEVENT
UID:WILD_APRICOT_EVENT_3240624_SESSION_1
DTSTART:20190504T000000Z
DTEND:20190505T060000Z
SUMMARY:SPAA Members at Wings Over Illawarra 2019
LOCATION:Shoalhaven Airport
DESCRIPTION:https://seaplanes.org.au/event-3240624\n\nJoin with SPAA Members at the largest regional airshow in Australia\n  \n\n
DTSTAMP:20190227T132701Z
END:VEVENT
END:VCALENDAR
