BEGIN:VCALENDAR
VERSION:2.0
METHOD:PUBLISH
BEGIN:VEVENT
UID:WILD_APRICOT_EVENT_3240629_SESSION_1
DTSTART:20190516T063000Z
DTEND:20190518T120000Z
SUMMARY:SPAA "Splashdown 2019" Seaplane Pilots Conference
LOCATION:Rathmines
DESCRIPTION:https://seaplanes.org.au/event-3240629\n\n"SPLASHDOWN 2019" SPAA Seaplane Pilots Conference\n  \n\n  16 through 18 May 2019\n  Don't forget to stay for the Rathmines Catalina Festival on Sunday 19 May!\n  Registration covers your attendance at all conference sessions and includes lunch and dinner meals at Club Catalina from Thursday night until Saturday night.\n Conference registration payment will also include your annual SPAA membership renewal!\n  Money-back weather guarantee: if flying-in!\n  EARLY BIRD CONFERENCE registration $345 (prior to 31 March)\n  FULL CONFERENCE registration $395 (If registered after 31 March)\n  DINNER ONLY REGISTRATION $50 pp per dinner\n  \n\n  'Partners' guest registration $150 (non-pilot's program only)\n  For more information contact: Donna Handley on 0409 172 776 or email donnadqn@gmail.com\n\n  \n\n\n
DTSTAMP:20190227T132723Z
END:VEVENT
END:VCALENDAR
