BEGIN:VCALENDAR
VERSION:2.0
METHOD:PUBLISH
BEGIN:VEVENT
UID:WILD_APRICOT_EVENT_3264798_SESSION_1
DTSTART:20190315T053000Z
DTEND:20190317T000000Z
SUMMARY:SPAA Lake Boga Splash-in
LOCATION:Lake Boga VIC
DESCRIPTION:https://seaplanes.org.au/event-3264798\n\n\n  Join with SPAA members at Lake Boga for a Friday BBQ dinner\, Saturday Corn Roast or a Party Boat cruise on the lake.\n  $30 each for two course dinner\n $10 donation for Party Boat ride.\n  The Lake Boga Water Ski Club will assist with drinks from the bar.  (These are NOT included with your dinner payment)\n
DTSTAMP:20190227T132618Z
END:VEVENT
END:VCALENDAR
